BEGIN:VCALENDAR
VERSION:2.0
PRODID:-//wp-events-plugin.com//7.2.3.1//EN
TZID:America/Los_Angeles
X-WR-TIMEZONE:America/Los_Angeles
BEGIN:VEVENT
UID:383@bkblv.org
DTSTART;TZID=America/Los_Angeles:20250828T173000
DTEND;TZID=America/Los_Angeles:20250828T220000
DTSTAMP:20250727T214152Z
URL:https://www.bkblv.org/events/baseball-outing/
SUMMARY:Baseball Outing
DESCRIPTION:Aviator's Baseball Game Outing sponsored by the Men's Club. Cal
 l David Kandel for more information.
CATEGORIES:Men's Club
END:VEVENT
BEGIN:VTIMEZONE
TZID:America/Los_Angeles
X-LIC-LOCATION:America/Los_Angeles
BEGIN:DAYLIGHT
DTSTART:20250309T030000
TZOFFSETFROM:-0800
TZOFFSETTO:-0700
TZNAME:PDT
END:DAYLIGHT
END:VTIMEZONE
END:VCALENDAR