BEGIN:VCALENDAR
VERSION:2.0
PRODID:-//wp-events-plugin.com//7.2.3.1//EN
TZID:America/Los_Angeles
X-WR-TIMEZONE:America/Los_Angeles
BEGIN:VEVENT
UID:423@bkblv.org
DTSTART;TZID=America/Los_Angeles:20260317T093000
DTEND;TZID=America/Los_Angeles:20260317T110000
DTSTAMP:20260128T193602Z
URL:https://www.bkblv.org/events/bkb-mens-club-breakfast-2026-02-17-2026-0
 3-17/
SUMMARY:BKB Men's Club Breakfast
DESCRIPTION:For more information call David 949-697-8162
CATEGORIES:Men's Club
LOCATION:Egg Works\, 2025 Village Circle Ctr\, United States
X-APPLE-STRUCTURED-LOCATION;VALUE=URI;X-ADDRESS=2025 Village Circle Ctr\, U
 nited States;X-APPLE-RADIUS=100;X-TITLE=Egg Works:geo:0,0
END:VEVENT
BEGIN:VTIMEZONE
TZID:America/Los_Angeles
X-LIC-LOCATION:America/Los_Angeles
BEGIN:DAYLIGHT
DTSTART:20260308T030000
TZOFFSETFROM:-0800
TZOFFSETTO:-0700
TZNAME:PDT
END:DAYLIGHT
END:VTIMEZONE
END:VCALENDAR