BEGIN:VCALENDAR
VERSION:2.0
PRODID:-//wp-events-plugin.com//7.2.3.1//EN
TZID:America/Los_Angeles
X-WR-TIMEZONE:America/Los_Angeles
BEGIN:VEVENT
UID:422@bkblv.org
DTSTART;TZID=America/Los_Angeles:20260217T093000
DTEND;TZID=America/Los_Angeles:20260217T110000
DTSTAMP:20260205T175137Z
URL:https://www.bkblv.org/events/bkb-mens-club-breakfast-2026-02-17/
SUMMARY:BKB Men's Club Breakfast
DESCRIPTION:For more information call David 949-697-8162
CATEGORIES:Men's Club
LOCATION:Egg Works\, 2025 Village Circle Ctr\, United States
X-APPLE-STRUCTURED-LOCATION;VALUE=URI;X-ADDRESS=2025 Village Circle Ctr\, U
 nited States;X-APPLE-RADIUS=100;X-TITLE=Egg Works:geo:0,0
END:VEVENT
BEGIN:VTIMEZONE
TZID:America/Los_Angeles
X-LIC-LOCATION:America/Los_Angeles
BEGIN:STANDARD
DTSTART:20251102T010000
TZOFFSETFROM:-0700
TZOFFSETTO:-0800
TZNAME:PST
END:STANDARD
END:VTIMEZONE
END:VCALENDAR