BEGIN:VCALENDAR
VERSION:2.0
PRODID:-//wp-events-plugin.com//7.2.3.1//EN
TZID:America/Los_Angeles
X-WR-TIMEZONE:America/Los_Angeles
BEGIN:VEVENT
UID:433@bkblv.org
DTSTART;TZID=America/Los_Angeles:20260128T100000
DTEND;TZID=America/Los_Angeles:20260128T113000
DTSTAMP:20260128T194505Z
URL:https://www.bkblv.org/events/bkb-sisterhood-men-are-invited/
SUMMARY:BKB Sisterhood - Men are invited
DESCRIPTION:!###ATTENTION###!\nBKB MEN ARE INVITED\nJoin the women at the B
 KB Sisterhood General\nMeeting Breakfast on Wednesday\, January 28th\n10am
  at Desert Vista\n$5 Activity fee to be collected at the door\nGuest Speak
 er will be from Roseman University of Health\nand Sciences\nTHE BKB SISTER
 HOOD
CATEGORIES:Sisterhood
END:VEVENT
BEGIN:VTIMEZONE
TZID:America/Los_Angeles
X-LIC-LOCATION:America/Los_Angeles
BEGIN:STANDARD
DTSTART:20251102T010000
TZOFFSETFROM:-0700
TZOFFSETTO:-0800
TZNAME:PST
END:STANDARD
END:VTIMEZONE
END:VCALENDAR