BEGIN:VCALENDAR
VERSION:2.0
PRODID:-//wp-events-plugin.com//7.2.3.1//EN
TZID:America/Los_Angeles
X-WR-TIMEZONE:America/Los_Angeles
BEGIN:VEVENT
UID:377@bkblv.org
DTSTART;TZID=America/Los_Angeles:20250520T090000
DTEND;TZID=America/Los_Angeles:20250520T110000
DTSTAMP:20250508T231709Z
URL:https://www.bkblv.org/events/mens-club-6/
SUMMARY:Men's Club
DESCRIPTION:$10.00 paid at door for a full breakfast at Egg Works with a Co
 mic Entertainer: Comedienne Ivy Goldman
CATEGORIES:Men's Club
END:VEVENT
BEGIN:VTIMEZONE
TZID:America/Los_Angeles
X-LIC-LOCATION:America/Los_Angeles
BEGIN:DAYLIGHT
DTSTART:20250309T030000
TZOFFSETFROM:-0800
TZOFFSETTO:-0700
TZNAME:PDT
END:DAYLIGHT
END:VTIMEZONE
END:VCALENDAR