BEGIN:VCALENDAR
VERSION:2.0
PRODID:-//wp-events-plugin.com//7.2.3.1//EN
TZID:America/Los_Angeles
X-WR-TIMEZONE:America/Los_Angeles
BEGIN:VEVENT
UID:394@bkblv.org
DTSTART;TZID=America/Los_Angeles:20251118T093000
DTEND;TZID=America/Los_Angeles:20251118T120000
DTSTAMP:20251008T230651Z
URL:https://www.bkblv.org/events/mens-club-9/
SUMMARY:Men's Club
DESCRIPTION:Men's Club Breakfast at Egg Works
CATEGORIES:Men's Club
END:VEVENT
BEGIN:VTIMEZONE
TZID:America/Los_Angeles
X-LIC-LOCATION:America/Los_Angeles
BEGIN:STANDARD
DTSTART:20251102T010000
TZOFFSETFROM:-0700
TZOFFSETTO:-0800
TZNAME:PST
END:STANDARD
END:VTIMEZONE
END:VCALENDAR