BEGIN:VCALENDAR
VERSION:2.0
PRODID:-//wp-events-plugin.com//7.2.3.1//EN
TZID:America/Los_Angeles
X-WR-TIMEZONE:America/Los_Angeles
BEGIN:VEVENT
UID:378@bkblv.org
DTSTART;TZID=America/Los_Angeles:20250612T100000
DTEND;TZID=America/Los_Angeles:20250612T120000
DTSTAMP:20250508T232211Z
URL:https://www.bkblv.org/events/mens-club-bkfast/
SUMMARY:Men's Club Bkfast at Desert Vista
DESCRIPTION:Free Bagel Breakfast\nSpeaker: Steve Lake re: Gaming Industry.\
 nWomen Invited
CATEGORIES:Men's Club
END:VEVENT
BEGIN:VTIMEZONE
TZID:America/Los_Angeles
X-LIC-LOCATION:America/Los_Angeles
BEGIN:DAYLIGHT
DTSTART:20250309T030000
TZOFFSETFROM:-0800
TZOFFSETTO:-0700
TZNAME:PDT
END:DAYLIGHT
END:VTIMEZONE
END:VCALENDAR