BEGIN:VCALENDAR
VERSION:2.0
PRODID:-//wp-events-plugin.com//7.2.3.1//EN
TZID:America/Los_Angeles
X-WR-TIMEZONE:America/Los_Angeles
BEGIN:VEVENT
UID:379@bkblv.org
DTSTART;TZID=America/Los_Angeles:20250518T130000
DTEND;TZID=America/Los_Angeles:20250518T150000
DTSTAMP:20250508T234927Z
URL:https://www.bkblv.org/events/one-community-celebration/
SUMMARY:One Community Celebration
DESCRIPTION:Free Event: Community Celebration at Desert Vista:\nBKB Choir\,
  Other Choirs\, Mayor Shelly Berkely\, Lt. Gov. Stavros Anthony + more
CATEGORIES:BKB Events
END:VEVENT
BEGIN:VTIMEZONE
TZID:America/Los_Angeles
X-LIC-LOCATION:America/Los_Angeles
BEGIN:DAYLIGHT
DTSTART:20250309T030000
TZOFFSETFROM:-0800
TZOFFSETTO:-0700
TZNAME:PDT
END:DAYLIGHT
END:VTIMEZONE
END:VCALENDAR