BEGIN:VCALENDAR
VERSION:2.0
PRODID:-//wp-events-plugin.com//7.2.3.1//EN
TZID:America/Los_Angeles
X-WR-TIMEZONE:America/Los_Angeles
BEGIN:VEVENT
UID:447@bkblv.org
DTSTART;TZID=America/Los_Angeles:20260401T170000
DTEND;TZID=America/Los_Angeles:20260401T193000
DTSTAMP:20260301T235244Z
URL:https://www.bkblv.org/events/passover-seder-2/
SUMMARY:Seder
DESCRIPTION:Sun Coast Hotel\nBKB PASSOVER SEDER\nBKB's annual Passover Sede
 r will be at the Sun Coast on Wednesday\, 4/1/26. Full details are in the 
 email you should have received. Print the flyer and enter the information 
 requested\, then send along with your check to:\nIvy Goldman\n9004 Sundial
  Dr\nLas Vegas\, NV 89134\nHope you will join me for our Passover celebrat
 ion.\n\nArlene Goodman\n\nPresident
CATEGORIES:Misc
END:VEVENT
BEGIN:VTIMEZONE
TZID:America/Los_Angeles
X-LIC-LOCATION:America/Los_Angeles
BEGIN:DAYLIGHT
DTSTART:20260308T030000
TZOFFSETFROM:-0800
TZOFFSETTO:-0700
TZNAME:PDT
END:DAYLIGHT
END:VTIMEZONE
END:VCALENDAR