BEGIN:VCALENDAR
VERSION:2.0
PRODID:-//wp-events-plugin.com//7.2.3.1//EN
TZID:America/Los_Angeles
X-WR-TIMEZONE:America/Los_Angeles
BEGIN:VEVENT
UID:97@bkblv.org
DTSTART;TZID=America/Los_Angeles:20230405T180000
DTEND;TZID=America/Los_Angeles:20230405T180000
DTSTAMP:20230217T003757Z
URL:https://www.bkblv.org/events/passover-seder/
SUMMARY:Passover Seder
DESCRIPTION:At the Suncoast Hotel\n\nDoors open at 5:30pm
END:VEVENT
BEGIN:VTIMEZONE
TZID:America/Los_Angeles
X-LIC-LOCATION:America/Los_Angeles
BEGIN:DAYLIGHT
DTSTART:20230312T030000
TZOFFSETFROM:-0800
TZOFFSETTO:-0700
TZNAME:PDT
END:DAYLIGHT
END:VTIMEZONE
END:VCALENDAR