BEGIN:VCALENDAR
VERSION:2.0
PRODID:-//wp-events-plugin.com//7.2.3.1//EN
TZID:America/Los_Angeles
X-WR-TIMEZONE:America/Los_Angeles
BEGIN:VEVENT
UID:435@bkblv.org
DTSTART;TZID=America/Los_Angeles:20260227T153000
DTEND;TZID=America/Los_Angeles:20260227T183000
DTSTAMP:20260128T195204Z
URL:https://www.bkblv.org/events/purim-party-and-dinner/
SUMMARY:Purim Party and Dinner
DESCRIPTION:Doors open at 3:30. $25 per person includes dinner.\n\nDessert 
 Vista Ballrooom.
CATEGORIES:BKB Events
END:VEVENT
BEGIN:VTIMEZONE
TZID:America/Los_Angeles
X-LIC-LOCATION:America/Los_Angeles
BEGIN:STANDARD
DTSTART:20251102T010000
TZOFFSETFROM:-0700
TZOFFSETTO:-0800
TZNAME:PST
END:STANDARD
END:VTIMEZONE
END:VCALENDAR