BEGIN:VCALENDAR
VERSION:2.0
PRODID:-//wp-events-plugin.com//7.2.3.1//EN
TZID:America/Los_Angeles
X-WR-TIMEZONE:America/Los_Angeles
BEGIN:VEVENT
UID:398@bkblv.org
DTSTART;TZID=America/Los_Angeles:20260213T183000
DTEND;TZID=America/Los_Angeles:20260213T203000
DTSTAMP:20260128T193952Z
URL:https://www.bkblv.org/events/services-7-2026-02-13/
SUMMARY:Services - BKB Sisterhood Service
DESCRIPTION:SHABBAT SHALOM - BKB SISTERHOOD SERVICE\n\nJoin us as we honor 
 our active and eventful BKB Sisterhood
CATEGORIES:Services
LOCATION:Dessert Vista Ballroom\, \, United States
X-APPLE-STRUCTURED-LOCATION;VALUE=URI;X-ADDRESS=\, United States;X-APPLE-RA
 DIUS=100;X-TITLE=Dessert Vista Ballroom:geo:0,0
END:VEVENT
BEGIN:VTIMEZONE
TZID:America/Los_Angeles
X-LIC-LOCATION:America/Los_Angeles
BEGIN:STANDARD
DTSTART:20251102T010000
TZOFFSETFROM:-0700
TZOFFSETTO:-0800
TZNAME:PST
END:STANDARD
END:VTIMEZONE
END:VCALENDAR