BEGIN:VCALENDAR
VERSION:2.0
PRODID:-//wp-events-plugin.com//7.2.3.1//EN
TZID:America/Los_Angeles
X-WR-TIMEZONE:America/Los_Angeles
BEGIN:VEVENT
UID:410@bkblv.org
DTSTART;TZID=America/Los_Angeles:20260227T183000
DTEND;TZID=America/Los_Angeles:20260227T203000
DTSTAMP:20260128T193953Z
URL:https://www.bkblv.org/events/services-8-2026-02-27/
SUMMARY:Services - Purim Celebrations with dinner\, party\, and shpiel
DESCRIPTION:PURIM CELEBRATIONS WITH DINNER\, PARTY\, AND SHPIEL\n\no  Goo
 d food\, prizes\, gifts\, friendships\, and tons of fun\n\nYOU WILL NOT WA
 NT TO MISS THIS FABULOUS EVENT IN PREPARATION OF PURIM WHICH BEGINS ON MAR
 CH 2ND
CATEGORIES:Services
END:VEVENT
BEGIN:VTIMEZONE
TZID:America/Los_Angeles
X-LIC-LOCATION:America/Los_Angeles
BEGIN:STANDARD
DTSTART:20251102T010000
TZOFFSETFROM:-0700
TZOFFSETTO:-0800
TZNAME:PST
END:STANDARD
END:VTIMEZONE
END:VCALENDAR