BEGIN:VCALENDAR
VERSION:2.0
PRODID:-//wp-events-plugin.com//7.2.3.1//EN
TZID:America/Los_Angeles
X-WR-TIMEZONE:America/Los_Angeles
BEGIN:VEVENT
UID:413@bkblv.org
DTSTART;TZID=America/Los_Angeles:20260522T183000
DTEND;TZID=America/Los_Angeles:20260522T203000
DTSTAMP:20260204T211950Z
URL:https://www.bkblv.org/events/services-8-2026-05-22/
SUMMARY:Services - Shavuot Celebration
DESCRIPTION:Actual day\, May 22nd (Outdoor Yizkor Service back of DV\, Satu
 rday\, May 23rd)
CATEGORIES:Services
END:VEVENT
BEGIN:VTIMEZONE
TZID:America/Los_Angeles
X-LIC-LOCATION:America/Los_Angeles
BEGIN:DAYLIGHT
DTSTART:20260308T030000
TZOFFSETFROM:-0800
TZOFFSETTO:-0700
TZNAME:PDT
END:DAYLIGHT
END:VTIMEZONE
END:VCALENDAR