BEGIN:VCALENDAR
VERSION:2.0
PRODID:-//wp-events-plugin.com//7.2.3.1//EN
TZID:America/Los_Angeles
X-WR-TIMEZONE:America/Los_Angeles
BEGIN:VEVENT
UID:99@bkblv.org
DTSTART;TZID=America/Los_Angeles:20231129T100000
DTEND;TZID=America/Los_Angeles:20231129T120000
DTSTAMP:20260206T145511Z
URL:https://www.bkblv.org/events/sisterhood-3/
SUMMARY:Sisterhood
DESCRIPTION:\n			#gallery-1 {\n				margin: auto\;\n			}\n			#gallery-1 .gal
 lery-item {\n				float: left\;\n				margin-top: 10px\;\n				text-align: ce
 nter\;\n				width: 25%\;\n			}\n			#gallery-1 img {\n				border: 2px solid
  #cfcfcf\;\n			}\n			#gallery-1 .gallery-caption {\n				margin-left: 0\;\n
 			}\n			/* see gallery_shortcode() in wp-includes/media.php */\n		\n		\n	
 		\n				\n			\n			\n				\n			\n			\n				\n			\n			\n				\n			
CATEGORIES:Sisterhood
END:VEVENT
BEGIN:VTIMEZONE
TZID:America/Los_Angeles
X-LIC-LOCATION:America/Los_Angeles
BEGIN:STANDARD
DTSTART:20231105T010000
TZOFFSETFROM:-0700
TZOFFSETTO:-0800
TZNAME:PST
END:STANDARD
END:VTIMEZONE
END:VCALENDAR