BEGIN:VCALENDAR
VERSION:2.0
PRODID:-//wp-events-plugin.com//7.2.3.1//EN
TZID:America/Los_Angeles
X-WR-TIMEZONE:America/Los_Angeles
BEGIN:VEVENT
UID:446@bkblv.org
DTSTART;TZID=America/Los_Angeles:20260326T100000
DTEND;TZID=America/Los_Angeles:20260326T113000
DTSTAMP:20260301T233715Z
URL:https://www.bkblv.org/events/sisterhood-general-meeting/
SUMMARY:Sisterhood General Meeting
DESCRIPTION:Egg Works
CATEGORIES:Sisterhood
END:VEVENT
BEGIN:VTIMEZONE
TZID:America/Los_Angeles
X-LIC-LOCATION:America/Los_Angeles
BEGIN:DAYLIGHT
DTSTART:20260308T030000
TZOFFSETFROM:-0800
TZOFFSETTO:-0700
TZNAME:PDT
END:DAYLIGHT
END:VTIMEZONE
END:VCALENDAR