BEGIN:VCALENDAR
VERSION:2.0
PRODID:-//wp-events-plugin.com//7.2.3.1//EN
TZID:America/Los_Angeles
X-WR-TIMEZONE:America/Los_Angeles
BEGIN:VEVENT
UID:98@bkblv.org
DTSTART;TZID=America/Los_Angeles:20230525T110000
DTEND;TZID=America/Los_Angeles:20230525T140000
DTSTAMP:20230320T210005Z
URL:https://www.bkblv.org/events/sisterhood-special-event/
SUMMARY:Sisterhood Special Event
DESCRIPTION:Lunch Social at Eggworks
CATEGORIES:Sisterhood
END:VEVENT
BEGIN:VTIMEZONE
TZID:America/Los_Angeles
X-LIC-LOCATION:America/Los_Angeles
BEGIN:DAYLIGHT
DTSTART:20230312T030000
TZOFFSETFROM:-0800
TZOFFSETTO:-0700
TZNAME:PDT
END:DAYLIGHT
END:VTIMEZONE
END:VCALENDAR