BEGIN:VCALENDAR
VERSION:2.0
PRODID:-//wp-events-plugin.com//7.2.3.1//EN
TZID:America/Los_Angeles
X-WR-TIMEZONE:America/Los_Angeles
BEGIN:VEVENT
UID:381@bkblv.org
DTSTART;TZID=America/Los_Angeles:20250603T110000
DTEND;TZID=America/Los_Angeles:20250603T123000
DTSTAMP:20250511T213201Z
URL:https://www.bkblv.org/events/yizkor-service/
SUMMARY:Yizkor Service
DESCRIPTION:Shavuot Yizkor Service & Potluck (bring your own food)\; outdoo
 rs at Desert Vista picnic area
CATEGORIES:Services
END:VEVENT
BEGIN:VTIMEZONE
TZID:America/Los_Angeles
X-LIC-LOCATION:America/Los_Angeles
BEGIN:DAYLIGHT
DTSTART:20250309T030000
TZOFFSETFROM:-0800
TZOFFSETTO:-0700
TZNAME:PDT
END:DAYLIGHT
END:VTIMEZONE
END:VCALENDAR